BEGIN:VCALENDAR
VERSION:2.0
PRODID:-//Community Resources Network Ireland - ECPv6.15.20//NONSGML v1.0//EN
CALSCALE:GREGORIAN
METHOD:PUBLISH
X-ORIGINAL-URL:https://crni.ie
X-WR-CALDESC:Events for Community Resources Network Ireland
REFRESH-INTERVAL;VALUE=DURATION:PT1H
X-Robots-Tag:noindex
X-PUBLISHED-TTL:PT1H
BEGIN:VTIMEZONE
TZID:Europe/Dublin
BEGIN:STANDARD
TZOFFSETFROM:+0000
TZOFFSETTO:+0100
TZNAME:IST
DTSTART:20260329T010000
END:STANDARD
BEGIN:DAYLIGHT
TZOFFSETFROM:+0100
TZOFFSETTO:+0000
TZNAME:GMT
DTSTART:20261025T010000
END:DAYLIGHT
BEGIN:STANDARD
TZOFFSETFROM:+0000
TZOFFSETTO:+0100
TZNAME:IST
DTSTART:20270328T010000
END:STANDARD
BEGIN:DAYLIGHT
TZOFFSETFROM:+0100
TZOFFSETTO:+0000
TZNAME:GMT
DTSTART:20271031T010000
END:DAYLIGHT
BEGIN:STANDARD
TZOFFSETFROM:+0000
TZOFFSETTO:+0100
TZNAME:IST
DTSTART:20280326T010000
END:STANDARD
BEGIN:DAYLIGHT
TZOFFSETFROM:+0100
TZOFFSETTO:+0000
TZNAME:GMT
DTSTART:20281029T010000
END:DAYLIGHT
END:VTIMEZONE
BEGIN:VEVENT
DTSTART;TZID=Europe/Dublin:20270902T153000
DTEND;TZID=Europe/Dublin:20270902T170000
DTSTAMP:20260419T234643
CREATED:20240501T140001Z
LAST-MODIFIED:20240501T152412Z
UID:10001761-1819899000-1819904400@crni.ie
SUMMARY:Sewing Classes for Kids
DESCRIPTION:Tait House are delighted to host sewing classes for kids\, run by Project Fashion here every Thursday afternoon. For more information or to book a place for your child\, you can phone 01 539 2674 or email info@projectfashion.ie
URL:https://crni.ie/event/sewing-class/2027-09-02/
LOCATION:Tait House\, Collins Avenue\, Roxboro Road\, Limerick\, Limerick\, Ireland
CATEGORIES:Local Event with reuse/recycling
ATTACH;FMTTYPE=image/jpeg:https://crni.ie/content/uploads/2024/05/Project-Fashion-Sewing-Classes-at-Tait-House.jpg
GEO:52.6453329;-8.6129813
X-APPLE-STRUCTURED-LOCATION;VALUE=URI;X-ADDRESS=Tait House Collins Avenue Roxboro Road Limerick Limerick Ireland;X-APPLE-RADIUS=500;X-TITLE=Collins Avenue\, Roxboro Road:geo:-8.6129813,52.6453329
END:VEVENT
BEGIN:VEVENT
DTSTART;TZID=Europe/Dublin:20270902T170000
DTEND;TZID=Europe/Dublin:20270902T183000
DTSTAMP:20260419T234643
CREATED:20240501T140202Z
LAST-MODIFIED:20240501T152440Z
UID:10002022-1819904400-1819909800@crni.ie
SUMMARY:Sewing Classes for Kids
DESCRIPTION:Tait House are delighted to host sewing classes for kids\, run by Project Fashion here every Thursday afternoon. For more information or to book a place for your child\, you can phone 01 539 2674 or email info@projectfashion.ie
URL:https://crni.ie/event/sewing-class-2/2027-09-02/
LOCATION:Tait House\, Collins Avenue\, Roxboro Road\, Limerick\, Limerick\, Ireland
CATEGORIES:Local Event with reuse/recycling
ATTACH;FMTTYPE=image/jpeg:https://crni.ie/content/uploads/2024/05/Project-Fashion-Sewing-Classes-at-Tait-House.jpg
GEO:52.6453329;-8.6129813
X-APPLE-STRUCTURED-LOCATION;VALUE=URI;X-ADDRESS=Tait House Collins Avenue Roxboro Road Limerick Limerick Ireland;X-APPLE-RADIUS=500;X-TITLE=Collins Avenue\, Roxboro Road:geo:-8.6129813,52.6453329
END:VEVENT
BEGIN:VEVENT
DTSTART;TZID=Europe/Dublin:20270909T153000
DTEND;TZID=Europe/Dublin:20270909T170000
DTSTAMP:20260419T234643
CREATED:20240501T140001Z
LAST-MODIFIED:20240501T152412Z
UID:10001762-1820503800-1820509200@crni.ie
SUMMARY:Sewing Classes for Kids
DESCRIPTION:Tait House are delighted to host sewing classes for kids\, run by Project Fashion here every Thursday afternoon. For more information or to book a place for your child\, you can phone 01 539 2674 or email info@projectfashion.ie
URL:https://crni.ie/event/sewing-class/2027-09-09/
LOCATION:Tait House\, Collins Avenue\, Roxboro Road\, Limerick\, Limerick\, Ireland
CATEGORIES:Local Event with reuse/recycling
ATTACH;FMTTYPE=image/jpeg:https://crni.ie/content/uploads/2024/05/Project-Fashion-Sewing-Classes-at-Tait-House.jpg
GEO:52.6453329;-8.6129813
X-APPLE-STRUCTURED-LOCATION;VALUE=URI;X-ADDRESS=Tait House Collins Avenue Roxboro Road Limerick Limerick Ireland;X-APPLE-RADIUS=500;X-TITLE=Collins Avenue\, Roxboro Road:geo:-8.6129813,52.6453329
END:VEVENT
BEGIN:VEVENT
DTSTART;TZID=Europe/Dublin:20270909T170000
DTEND;TZID=Europe/Dublin:20270909T183000
DTSTAMP:20260419T234643
CREATED:20240501T140202Z
LAST-MODIFIED:20240501T152440Z
UID:10002023-1820509200-1820514600@crni.ie
SUMMARY:Sewing Classes for Kids
DESCRIPTION:Tait House are delighted to host sewing classes for kids\, run by Project Fashion here every Thursday afternoon. For more information or to book a place for your child\, you can phone 01 539 2674 or email info@projectfashion.ie
URL:https://crni.ie/event/sewing-class-2/2027-09-09/
LOCATION:Tait House\, Collins Avenue\, Roxboro Road\, Limerick\, Limerick\, Ireland
CATEGORIES:Local Event with reuse/recycling
ATTACH;FMTTYPE=image/jpeg:https://crni.ie/content/uploads/2024/05/Project-Fashion-Sewing-Classes-at-Tait-House.jpg
GEO:52.6453329;-8.6129813
X-APPLE-STRUCTURED-LOCATION;VALUE=URI;X-ADDRESS=Tait House Collins Avenue Roxboro Road Limerick Limerick Ireland;X-APPLE-RADIUS=500;X-TITLE=Collins Avenue\, Roxboro Road:geo:-8.6129813,52.6453329
END:VEVENT
BEGIN:VEVENT
DTSTART;TZID=Europe/Dublin:20270916T153000
DTEND;TZID=Europe/Dublin:20270916T170000
DTSTAMP:20260419T234643
CREATED:20240501T140001Z
LAST-MODIFIED:20240501T152412Z
UID:10001763-1821108600-1821114000@crni.ie
SUMMARY:Sewing Classes for Kids
DESCRIPTION:Tait House are delighted to host sewing classes for kids\, run by Project Fashion here every Thursday afternoon. For more information or to book a place for your child\, you can phone 01 539 2674 or email info@projectfashion.ie
URL:https://crni.ie/event/sewing-class/2027-09-16/
LOCATION:Tait House\, Collins Avenue\, Roxboro Road\, Limerick\, Limerick\, Ireland
CATEGORIES:Local Event with reuse/recycling
ATTACH;FMTTYPE=image/jpeg:https://crni.ie/content/uploads/2024/05/Project-Fashion-Sewing-Classes-at-Tait-House.jpg
GEO:52.6453329;-8.6129813
X-APPLE-STRUCTURED-LOCATION;VALUE=URI;X-ADDRESS=Tait House Collins Avenue Roxboro Road Limerick Limerick Ireland;X-APPLE-RADIUS=500;X-TITLE=Collins Avenue\, Roxboro Road:geo:-8.6129813,52.6453329
END:VEVENT
BEGIN:VEVENT
DTSTART;TZID=Europe/Dublin:20270916T170000
DTEND;TZID=Europe/Dublin:20270916T183000
DTSTAMP:20260419T234643
CREATED:20240501T140202Z
LAST-MODIFIED:20240501T152440Z
UID:10002024-1821114000-1821119400@crni.ie
SUMMARY:Sewing Classes for Kids
DESCRIPTION:Tait House are delighted to host sewing classes for kids\, run by Project Fashion here every Thursday afternoon. For more information or to book a place for your child\, you can phone 01 539 2674 or email info@projectfashion.ie
URL:https://crni.ie/event/sewing-class-2/2027-09-16/
LOCATION:Tait House\, Collins Avenue\, Roxboro Road\, Limerick\, Limerick\, Ireland
CATEGORIES:Local Event with reuse/recycling
ATTACH;FMTTYPE=image/jpeg:https://crni.ie/content/uploads/2024/05/Project-Fashion-Sewing-Classes-at-Tait-House.jpg
GEO:52.6453329;-8.6129813
X-APPLE-STRUCTURED-LOCATION;VALUE=URI;X-ADDRESS=Tait House Collins Avenue Roxboro Road Limerick Limerick Ireland;X-APPLE-RADIUS=500;X-TITLE=Collins Avenue\, Roxboro Road:geo:-8.6129813,52.6453329
END:VEVENT
BEGIN:VEVENT
DTSTART;TZID=Europe/Dublin:20270923T153000
DTEND;TZID=Europe/Dublin:20270923T170000
DTSTAMP:20260419T234643
CREATED:20240501T140001Z
LAST-MODIFIED:20240501T152412Z
UID:10001764-1821713400-1821718800@crni.ie
SUMMARY:Sewing Classes for Kids
DESCRIPTION:Tait House are delighted to host sewing classes for kids\, run by Project Fashion here every Thursday afternoon. For more information or to book a place for your child\, you can phone 01 539 2674 or email info@projectfashion.ie
URL:https://crni.ie/event/sewing-class/2027-09-23/
LOCATION:Tait House\, Collins Avenue\, Roxboro Road\, Limerick\, Limerick\, Ireland
CATEGORIES:Local Event with reuse/recycling
ATTACH;FMTTYPE=image/jpeg:https://crni.ie/content/uploads/2024/05/Project-Fashion-Sewing-Classes-at-Tait-House.jpg
GEO:52.6453329;-8.6129813
X-APPLE-STRUCTURED-LOCATION;VALUE=URI;X-ADDRESS=Tait House Collins Avenue Roxboro Road Limerick Limerick Ireland;X-APPLE-RADIUS=500;X-TITLE=Collins Avenue\, Roxboro Road:geo:-8.6129813,52.6453329
END:VEVENT
BEGIN:VEVENT
DTSTART;TZID=Europe/Dublin:20270923T170000
DTEND;TZID=Europe/Dublin:20270923T183000
DTSTAMP:20260419T234643
CREATED:20240501T140202Z
LAST-MODIFIED:20240501T152440Z
UID:10002025-1821718800-1821724200@crni.ie
SUMMARY:Sewing Classes for Kids
DESCRIPTION:Tait House are delighted to host sewing classes for kids\, run by Project Fashion here every Thursday afternoon. For more information or to book a place for your child\, you can phone 01 539 2674 or email info@projectfashion.ie
URL:https://crni.ie/event/sewing-class-2/2027-09-23/
LOCATION:Tait House\, Collins Avenue\, Roxboro Road\, Limerick\, Limerick\, Ireland
CATEGORIES:Local Event with reuse/recycling
ATTACH;FMTTYPE=image/jpeg:https://crni.ie/content/uploads/2024/05/Project-Fashion-Sewing-Classes-at-Tait-House.jpg
GEO:52.6453329;-8.6129813
X-APPLE-STRUCTURED-LOCATION;VALUE=URI;X-ADDRESS=Tait House Collins Avenue Roxboro Road Limerick Limerick Ireland;X-APPLE-RADIUS=500;X-TITLE=Collins Avenue\, Roxboro Road:geo:-8.6129813,52.6453329
END:VEVENT
BEGIN:VEVENT
DTSTART;TZID=Europe/Dublin:20270930T153000
DTEND;TZID=Europe/Dublin:20270930T170000
DTSTAMP:20260419T234644
CREATED:20240501T140001Z
LAST-MODIFIED:20240501T152412Z
UID:10001765-1822318200-1822323600@crni.ie
SUMMARY:Sewing Classes for Kids
DESCRIPTION:Tait House are delighted to host sewing classes for kids\, run by Project Fashion here every Thursday afternoon. For more information or to book a place for your child\, you can phone 01 539 2674 or email info@projectfashion.ie
URL:https://crni.ie/event/sewing-class/2027-09-30/
LOCATION:Tait House\, Collins Avenue\, Roxboro Road\, Limerick\, Limerick\, Ireland
CATEGORIES:Local Event with reuse/recycling
ATTACH;FMTTYPE=image/jpeg:https://crni.ie/content/uploads/2024/05/Project-Fashion-Sewing-Classes-at-Tait-House.jpg
GEO:52.6453329;-8.6129813
X-APPLE-STRUCTURED-LOCATION;VALUE=URI;X-ADDRESS=Tait House Collins Avenue Roxboro Road Limerick Limerick Ireland;X-APPLE-RADIUS=500;X-TITLE=Collins Avenue\, Roxboro Road:geo:-8.6129813,52.6453329
END:VEVENT
BEGIN:VEVENT
DTSTART;TZID=Europe/Dublin:20270930T170000
DTEND;TZID=Europe/Dublin:20270930T183000
DTSTAMP:20260419T234644
CREATED:20240501T140202Z
LAST-MODIFIED:20240501T152440Z
UID:10002026-1822323600-1822329000@crni.ie
SUMMARY:Sewing Classes for Kids
DESCRIPTION:Tait House are delighted to host sewing classes for kids\, run by Project Fashion here every Thursday afternoon. For more information or to book a place for your child\, you can phone 01 539 2674 or email info@projectfashion.ie
URL:https://crni.ie/event/sewing-class-2/2027-09-30/
LOCATION:Tait House\, Collins Avenue\, Roxboro Road\, Limerick\, Limerick\, Ireland
CATEGORIES:Local Event with reuse/recycling
ATTACH;FMTTYPE=image/jpeg:https://crni.ie/content/uploads/2024/05/Project-Fashion-Sewing-Classes-at-Tait-House.jpg
GEO:52.6453329;-8.6129813
X-APPLE-STRUCTURED-LOCATION;VALUE=URI;X-ADDRESS=Tait House Collins Avenue Roxboro Road Limerick Limerick Ireland;X-APPLE-RADIUS=500;X-TITLE=Collins Avenue\, Roxboro Road:geo:-8.6129813,52.6453329
END:VEVENT
END:VCALENDAR