BEGIN:VCALENDAR
VERSION:2.0
PRODID:-//Community Resources Network Ireland - ECPv6.15.20//NONSGML v1.0//EN
CALSCALE:GREGORIAN
METHOD:PUBLISH
X-WR-CALNAME:Community Resources Network Ireland
X-ORIGINAL-URL:https://crni.ie
X-WR-CALDESC:Events for Community Resources Network Ireland
REFRESH-INTERVAL;VALUE=DURATION:PT1H
X-Robots-Tag:noindex
X-PUBLISHED-TTL:PT1H
BEGIN:VTIMEZONE
TZID:Europe/Dublin
BEGIN:STANDARD
TZOFFSETFROM:+0000
TZOFFSETTO:+0100
TZNAME:IST
DTSTART:20260329T010000
END:STANDARD
BEGIN:DAYLIGHT
TZOFFSETFROM:+0100
TZOFFSETTO:+0000
TZNAME:GMT
DTSTART:20261025T010000
END:DAYLIGHT
BEGIN:STANDARD
TZOFFSETFROM:+0000
TZOFFSETTO:+0100
TZNAME:IST
DTSTART:20270328T010000
END:STANDARD
BEGIN:DAYLIGHT
TZOFFSETFROM:+0100
TZOFFSETTO:+0000
TZNAME:GMT
DTSTART:20271031T010000
END:DAYLIGHT
BEGIN:STANDARD
TZOFFSETFROM:+0000
TZOFFSETTO:+0100
TZNAME:IST
DTSTART:20280326T010000
END:STANDARD
BEGIN:DAYLIGHT
TZOFFSETFROM:+0100
TZOFFSETTO:+0000
TZNAME:GMT
DTSTART:20281029T010000
END:DAYLIGHT
END:VTIMEZONE
BEGIN:VEVENT
DTSTART;TZID=Europe/Dublin:20271104T153000
DTEND;TZID=Europe/Dublin:20271104T170000
DTSTAMP:20260420T064247
CREATED:20240501T140001Z
LAST-MODIFIED:20240501T152412Z
UID:10001770-1825342200-1825347600@crni.ie
SUMMARY:Sewing Classes for Kids
DESCRIPTION:Tait House are delighted to host sewing classes for kids\, run by Project Fashion here every Thursday afternoon. For more information or to book a place for your child\, you can phone 01 539 2674 or email info@projectfashion.ie
URL:https://crni.ie/event/sewing-class/2027-11-04/
LOCATION:Tait House\, Collins Avenue\, Roxboro Road\, Limerick\, Limerick\, Ireland
CATEGORIES:Local Event with reuse/recycling
ATTACH;FMTTYPE=image/jpeg:https://crni.ie/content/uploads/2024/05/Project-Fashion-Sewing-Classes-at-Tait-House.jpg
GEO:52.6453329;-8.6129813
X-APPLE-STRUCTURED-LOCATION;VALUE=URI;X-ADDRESS=Tait House Collins Avenue Roxboro Road Limerick Limerick Ireland;X-APPLE-RADIUS=500;X-TITLE=Collins Avenue\, Roxboro Road:geo:-8.6129813,52.6453329
END:VEVENT
BEGIN:VEVENT
DTSTART;TZID=Europe/Dublin:20271104T170000
DTEND;TZID=Europe/Dublin:20271104T183000
DTSTAMP:20260420T064247
CREATED:20240501T140202Z
LAST-MODIFIED:20240501T152440Z
UID:10002031-1825347600-1825353000@crni.ie
SUMMARY:Sewing Classes for Kids
DESCRIPTION:Tait House are delighted to host sewing classes for kids\, run by Project Fashion here every Thursday afternoon. For more information or to book a place for your child\, you can phone 01 539 2674 or email info@projectfashion.ie
URL:https://crni.ie/event/sewing-class-2/2027-11-04/
LOCATION:Tait House\, Collins Avenue\, Roxboro Road\, Limerick\, Limerick\, Ireland
CATEGORIES:Local Event with reuse/recycling
ATTACH;FMTTYPE=image/jpeg:https://crni.ie/content/uploads/2024/05/Project-Fashion-Sewing-Classes-at-Tait-House.jpg
GEO:52.6453329;-8.6129813
X-APPLE-STRUCTURED-LOCATION;VALUE=URI;X-ADDRESS=Tait House Collins Avenue Roxboro Road Limerick Limerick Ireland;X-APPLE-RADIUS=500;X-TITLE=Collins Avenue\, Roxboro Road:geo:-8.6129813,52.6453329
END:VEVENT
BEGIN:VEVENT
DTSTART;TZID=Europe/Dublin:20271111T153000
DTEND;TZID=Europe/Dublin:20271111T170000
DTSTAMP:20260420T064247
CREATED:20240501T140001Z
LAST-MODIFIED:20240501T152412Z
UID:10001771-1825947000-1825952400@crni.ie
SUMMARY:Sewing Classes for Kids
DESCRIPTION:Tait House are delighted to host sewing classes for kids\, run by Project Fashion here every Thursday afternoon. For more information or to book a place for your child\, you can phone 01 539 2674 or email info@projectfashion.ie
URL:https://crni.ie/event/sewing-class/2027-11-11/
LOCATION:Tait House\, Collins Avenue\, Roxboro Road\, Limerick\, Limerick\, Ireland
CATEGORIES:Local Event with reuse/recycling
ATTACH;FMTTYPE=image/jpeg:https://crni.ie/content/uploads/2024/05/Project-Fashion-Sewing-Classes-at-Tait-House.jpg
GEO:52.6453329;-8.6129813
X-APPLE-STRUCTURED-LOCATION;VALUE=URI;X-ADDRESS=Tait House Collins Avenue Roxboro Road Limerick Limerick Ireland;X-APPLE-RADIUS=500;X-TITLE=Collins Avenue\, Roxboro Road:geo:-8.6129813,52.6453329
END:VEVENT
BEGIN:VEVENT
DTSTART;TZID=Europe/Dublin:20271111T170000
DTEND;TZID=Europe/Dublin:20271111T183000
DTSTAMP:20260420T064247
CREATED:20240501T140202Z
LAST-MODIFIED:20240501T152440Z
UID:10002032-1825952400-1825957800@crni.ie
SUMMARY:Sewing Classes for Kids
DESCRIPTION:Tait House are delighted to host sewing classes for kids\, run by Project Fashion here every Thursday afternoon. For more information or to book a place for your child\, you can phone 01 539 2674 or email info@projectfashion.ie
URL:https://crni.ie/event/sewing-class-2/2027-11-11/
LOCATION:Tait House\, Collins Avenue\, Roxboro Road\, Limerick\, Limerick\, Ireland
CATEGORIES:Local Event with reuse/recycling
ATTACH;FMTTYPE=image/jpeg:https://crni.ie/content/uploads/2024/05/Project-Fashion-Sewing-Classes-at-Tait-House.jpg
GEO:52.6453329;-8.6129813
X-APPLE-STRUCTURED-LOCATION;VALUE=URI;X-ADDRESS=Tait House Collins Avenue Roxboro Road Limerick Limerick Ireland;X-APPLE-RADIUS=500;X-TITLE=Collins Avenue\, Roxboro Road:geo:-8.6129813,52.6453329
END:VEVENT
BEGIN:VEVENT
DTSTART;TZID=Europe/Dublin:20271118T153000
DTEND;TZID=Europe/Dublin:20271118T170000
DTSTAMP:20260420T064247
CREATED:20240501T140001Z
LAST-MODIFIED:20240501T152412Z
UID:10001772-1826551800-1826557200@crni.ie
SUMMARY:Sewing Classes for Kids
DESCRIPTION:Tait House are delighted to host sewing classes for kids\, run by Project Fashion here every Thursday afternoon. For more information or to book a place for your child\, you can phone 01 539 2674 or email info@projectfashion.ie
URL:https://crni.ie/event/sewing-class/2027-11-18/
LOCATION:Tait House\, Collins Avenue\, Roxboro Road\, Limerick\, Limerick\, Ireland
CATEGORIES:Local Event with reuse/recycling
ATTACH;FMTTYPE=image/jpeg:https://crni.ie/content/uploads/2024/05/Project-Fashion-Sewing-Classes-at-Tait-House.jpg
GEO:52.6453329;-8.6129813
X-APPLE-STRUCTURED-LOCATION;VALUE=URI;X-ADDRESS=Tait House Collins Avenue Roxboro Road Limerick Limerick Ireland;X-APPLE-RADIUS=500;X-TITLE=Collins Avenue\, Roxboro Road:geo:-8.6129813,52.6453329
END:VEVENT
BEGIN:VEVENT
DTSTART;TZID=Europe/Dublin:20271118T170000
DTEND;TZID=Europe/Dublin:20271118T183000
DTSTAMP:20260420T064247
CREATED:20240501T140202Z
LAST-MODIFIED:20240501T152440Z
UID:10002033-1826557200-1826562600@crni.ie
SUMMARY:Sewing Classes for Kids
DESCRIPTION:Tait House are delighted to host sewing classes for kids\, run by Project Fashion here every Thursday afternoon. For more information or to book a place for your child\, you can phone 01 539 2674 or email info@projectfashion.ie
URL:https://crni.ie/event/sewing-class-2/2027-11-18/
LOCATION:Tait House\, Collins Avenue\, Roxboro Road\, Limerick\, Limerick\, Ireland
CATEGORIES:Local Event with reuse/recycling
ATTACH;FMTTYPE=image/jpeg:https://crni.ie/content/uploads/2024/05/Project-Fashion-Sewing-Classes-at-Tait-House.jpg
GEO:52.6453329;-8.6129813
X-APPLE-STRUCTURED-LOCATION;VALUE=URI;X-ADDRESS=Tait House Collins Avenue Roxboro Road Limerick Limerick Ireland;X-APPLE-RADIUS=500;X-TITLE=Collins Avenue\, Roxboro Road:geo:-8.6129813,52.6453329
END:VEVENT
BEGIN:VEVENT
DTSTART;TZID=Europe/Dublin:20271125T153000
DTEND;TZID=Europe/Dublin:20271125T170000
DTSTAMP:20260420T064247
CREATED:20240501T140001Z
LAST-MODIFIED:20240501T152412Z
UID:10001773-1827156600-1827162000@crni.ie
SUMMARY:Sewing Classes for Kids
DESCRIPTION:Tait House are delighted to host sewing classes for kids\, run by Project Fashion here every Thursday afternoon. For more information or to book a place for your child\, you can phone 01 539 2674 or email info@projectfashion.ie
URL:https://crni.ie/event/sewing-class/2027-11-25/
LOCATION:Tait House\, Collins Avenue\, Roxboro Road\, Limerick\, Limerick\, Ireland
CATEGORIES:Local Event with reuse/recycling
ATTACH;FMTTYPE=image/jpeg:https://crni.ie/content/uploads/2024/05/Project-Fashion-Sewing-Classes-at-Tait-House.jpg
GEO:52.6453329;-8.6129813
X-APPLE-STRUCTURED-LOCATION;VALUE=URI;X-ADDRESS=Tait House Collins Avenue Roxboro Road Limerick Limerick Ireland;X-APPLE-RADIUS=500;X-TITLE=Collins Avenue\, Roxboro Road:geo:-8.6129813,52.6453329
END:VEVENT
BEGIN:VEVENT
DTSTART;TZID=Europe/Dublin:20271125T170000
DTEND;TZID=Europe/Dublin:20271125T183000
DTSTAMP:20260420T064247
CREATED:20240501T140202Z
LAST-MODIFIED:20240501T152440Z
UID:10002034-1827162000-1827167400@crni.ie
SUMMARY:Sewing Classes for Kids
DESCRIPTION:Tait House are delighted to host sewing classes for kids\, run by Project Fashion here every Thursday afternoon. For more information or to book a place for your child\, you can phone 01 539 2674 or email info@projectfashion.ie
URL:https://crni.ie/event/sewing-class-2/2027-11-25/
LOCATION:Tait House\, Collins Avenue\, Roxboro Road\, Limerick\, Limerick\, Ireland
CATEGORIES:Local Event with reuse/recycling
ATTACH;FMTTYPE=image/jpeg:https://crni.ie/content/uploads/2024/05/Project-Fashion-Sewing-Classes-at-Tait-House.jpg
GEO:52.6453329;-8.6129813
X-APPLE-STRUCTURED-LOCATION;VALUE=URI;X-ADDRESS=Tait House Collins Avenue Roxboro Road Limerick Limerick Ireland;X-APPLE-RADIUS=500;X-TITLE=Collins Avenue\, Roxboro Road:geo:-8.6129813,52.6453329
END:VEVENT
END:VCALENDAR