BEGIN:VCALENDAR
VERSION:2.0
PRODID:-//Community Resources Network Ireland - ECPv6.15.20//NONSGML v1.0//EN
CALSCALE:GREGORIAN
METHOD:PUBLISH
X-ORIGINAL-URL:https://crni.ie
X-WR-CALDESC:Events for Community Resources Network Ireland
REFRESH-INTERVAL;VALUE=DURATION:PT1H
X-Robots-Tag:noindex
X-PUBLISHED-TTL:PT1H
BEGIN:VTIMEZONE
TZID:Europe/Dublin
BEGIN:STANDARD
TZOFFSETFROM:+0000
TZOFFSETTO:+0100
TZNAME:IST
DTSTART:20270328T010000
END:STANDARD
BEGIN:DAYLIGHT
TZOFFSETFROM:+0100
TZOFFSETTO:+0000
TZNAME:GMT
DTSTART:20271031T010000
END:DAYLIGHT
BEGIN:STANDARD
TZOFFSETFROM:+0000
TZOFFSETTO:+0100
TZNAME:IST
DTSTART:20280326T010000
END:STANDARD
BEGIN:DAYLIGHT
TZOFFSETFROM:+0100
TZOFFSETTO:+0000
TZNAME:GMT
DTSTART:20281029T010000
END:DAYLIGHT
BEGIN:STANDARD
TZOFFSETFROM:+0000
TZOFFSETTO:+0100
TZNAME:IST
DTSTART:20290325T010000
END:STANDARD
BEGIN:DAYLIGHT
TZOFFSETFROM:+0100
TZOFFSETTO:+0000
TZNAME:GMT
DTSTART:20291028T010000
END:DAYLIGHT
END:VTIMEZONE
BEGIN:VEVENT
DTSTART;TZID=Europe/Dublin:20280601T153000
DTEND;TZID=Europe/Dublin:20280601T170000
DTSTAMP:20260421T053244
CREATED:20240501T140001Z
LAST-MODIFIED:20240501T152412Z
UID:10001800-1843486200-1843491600@crni.ie
SUMMARY:Sewing Classes for Kids
DESCRIPTION:Tait House are delighted to host sewing classes for kids\, run by Project Fashion here every Thursday afternoon. For more information or to book a place for your child\, you can phone 01 539 2674 or email info@projectfashion.ie
URL:https://crni.ie/event/sewing-class/2028-06-01/
LOCATION:Tait House\, Collins Avenue\, Roxboro Road\, Limerick\, Limerick\, Ireland
CATEGORIES:Local Event with reuse/recycling
ATTACH;FMTTYPE=image/jpeg:https://crni.ie/content/uploads/2024/05/Project-Fashion-Sewing-Classes-at-Tait-House.jpg
GEO:52.6453329;-8.6129813
X-APPLE-STRUCTURED-LOCATION;VALUE=URI;X-ADDRESS=Tait House Collins Avenue Roxboro Road Limerick Limerick Ireland;X-APPLE-RADIUS=500;X-TITLE=Collins Avenue\, Roxboro Road:geo:-8.6129813,52.6453329
END:VEVENT
BEGIN:VEVENT
DTSTART;TZID=Europe/Dublin:20280601T170000
DTEND;TZID=Europe/Dublin:20280601T183000
DTSTAMP:20260421T053244
CREATED:20240501T140202Z
LAST-MODIFIED:20240501T152440Z
UID:10002061-1843491600-1843497000@crni.ie
SUMMARY:Sewing Classes for Kids
DESCRIPTION:Tait House are delighted to host sewing classes for kids\, run by Project Fashion here every Thursday afternoon. For more information or to book a place for your child\, you can phone 01 539 2674 or email info@projectfashion.ie
URL:https://crni.ie/event/sewing-class-2/2028-06-01/
LOCATION:Tait House\, Collins Avenue\, Roxboro Road\, Limerick\, Limerick\, Ireland
CATEGORIES:Local Event with reuse/recycling
ATTACH;FMTTYPE=image/jpeg:https://crni.ie/content/uploads/2024/05/Project-Fashion-Sewing-Classes-at-Tait-House.jpg
GEO:52.6453329;-8.6129813
X-APPLE-STRUCTURED-LOCATION;VALUE=URI;X-ADDRESS=Tait House Collins Avenue Roxboro Road Limerick Limerick Ireland;X-APPLE-RADIUS=500;X-TITLE=Collins Avenue\, Roxboro Road:geo:-8.6129813,52.6453329
END:VEVENT
BEGIN:VEVENT
DTSTART;TZID=Europe/Dublin:20280608T153000
DTEND;TZID=Europe/Dublin:20280608T170000
DTSTAMP:20260421T053244
CREATED:20240501T140001Z
LAST-MODIFIED:20240501T152412Z
UID:10001801-1844091000-1844096400@crni.ie
SUMMARY:Sewing Classes for Kids
DESCRIPTION:Tait House are delighted to host sewing classes for kids\, run by Project Fashion here every Thursday afternoon. For more information or to book a place for your child\, you can phone 01 539 2674 or email info@projectfashion.ie
URL:https://crni.ie/event/sewing-class/2028-06-08/
LOCATION:Tait House\, Collins Avenue\, Roxboro Road\, Limerick\, Limerick\, Ireland
CATEGORIES:Local Event with reuse/recycling
ATTACH;FMTTYPE=image/jpeg:https://crni.ie/content/uploads/2024/05/Project-Fashion-Sewing-Classes-at-Tait-House.jpg
GEO:52.6453329;-8.6129813
X-APPLE-STRUCTURED-LOCATION;VALUE=URI;X-ADDRESS=Tait House Collins Avenue Roxboro Road Limerick Limerick Ireland;X-APPLE-RADIUS=500;X-TITLE=Collins Avenue\, Roxboro Road:geo:-8.6129813,52.6453329
END:VEVENT
BEGIN:VEVENT
DTSTART;TZID=Europe/Dublin:20280608T170000
DTEND;TZID=Europe/Dublin:20280608T183000
DTSTAMP:20260421T053244
CREATED:20240501T140202Z
LAST-MODIFIED:20240501T152440Z
UID:10002062-1844096400-1844101800@crni.ie
SUMMARY:Sewing Classes for Kids
DESCRIPTION:Tait House are delighted to host sewing classes for kids\, run by Project Fashion here every Thursday afternoon. For more information or to book a place for your child\, you can phone 01 539 2674 or email info@projectfashion.ie
URL:https://crni.ie/event/sewing-class-2/2028-06-08/
LOCATION:Tait House\, Collins Avenue\, Roxboro Road\, Limerick\, Limerick\, Ireland
CATEGORIES:Local Event with reuse/recycling
ATTACH;FMTTYPE=image/jpeg:https://crni.ie/content/uploads/2024/05/Project-Fashion-Sewing-Classes-at-Tait-House.jpg
GEO:52.6453329;-8.6129813
X-APPLE-STRUCTURED-LOCATION;VALUE=URI;X-ADDRESS=Tait House Collins Avenue Roxboro Road Limerick Limerick Ireland;X-APPLE-RADIUS=500;X-TITLE=Collins Avenue\, Roxboro Road:geo:-8.6129813,52.6453329
END:VEVENT
BEGIN:VEVENT
DTSTART;TZID=Europe/Dublin:20280615T153000
DTEND;TZID=Europe/Dublin:20280615T170000
DTSTAMP:20260421T053244
CREATED:20240501T140001Z
LAST-MODIFIED:20240501T152412Z
UID:10001802-1844695800-1844701200@crni.ie
SUMMARY:Sewing Classes for Kids
DESCRIPTION:Tait House are delighted to host sewing classes for kids\, run by Project Fashion here every Thursday afternoon. For more information or to book a place for your child\, you can phone 01 539 2674 or email info@projectfashion.ie
URL:https://crni.ie/event/sewing-class/2028-06-15/
LOCATION:Tait House\, Collins Avenue\, Roxboro Road\, Limerick\, Limerick\, Ireland
CATEGORIES:Local Event with reuse/recycling
ATTACH;FMTTYPE=image/jpeg:https://crni.ie/content/uploads/2024/05/Project-Fashion-Sewing-Classes-at-Tait-House.jpg
GEO:52.6453329;-8.6129813
X-APPLE-STRUCTURED-LOCATION;VALUE=URI;X-ADDRESS=Tait House Collins Avenue Roxboro Road Limerick Limerick Ireland;X-APPLE-RADIUS=500;X-TITLE=Collins Avenue\, Roxboro Road:geo:-8.6129813,52.6453329
END:VEVENT
BEGIN:VEVENT
DTSTART;TZID=Europe/Dublin:20280615T170000
DTEND;TZID=Europe/Dublin:20280615T183000
DTSTAMP:20260421T053244
CREATED:20240501T140202Z
LAST-MODIFIED:20240501T152440Z
UID:10002063-1844701200-1844706600@crni.ie
SUMMARY:Sewing Classes for Kids
DESCRIPTION:Tait House are delighted to host sewing classes for kids\, run by Project Fashion here every Thursday afternoon. For more information or to book a place for your child\, you can phone 01 539 2674 or email info@projectfashion.ie
URL:https://crni.ie/event/sewing-class-2/2028-06-15/
LOCATION:Tait House\, Collins Avenue\, Roxboro Road\, Limerick\, Limerick\, Ireland
CATEGORIES:Local Event with reuse/recycling
ATTACH;FMTTYPE=image/jpeg:https://crni.ie/content/uploads/2024/05/Project-Fashion-Sewing-Classes-at-Tait-House.jpg
GEO:52.6453329;-8.6129813
X-APPLE-STRUCTURED-LOCATION;VALUE=URI;X-ADDRESS=Tait House Collins Avenue Roxboro Road Limerick Limerick Ireland;X-APPLE-RADIUS=500;X-TITLE=Collins Avenue\, Roxboro Road:geo:-8.6129813,52.6453329
END:VEVENT
BEGIN:VEVENT
DTSTART;TZID=Europe/Dublin:20280622T153000
DTEND;TZID=Europe/Dublin:20280622T170000
DTSTAMP:20260421T053244
CREATED:20240501T140001Z
LAST-MODIFIED:20240501T152412Z
UID:10001803-1845300600-1845306000@crni.ie
SUMMARY:Sewing Classes for Kids
DESCRIPTION:Tait House are delighted to host sewing classes for kids\, run by Project Fashion here every Thursday afternoon. For more information or to book a place for your child\, you can phone 01 539 2674 or email info@projectfashion.ie
URL:https://crni.ie/event/sewing-class/2028-06-22/
LOCATION:Tait House\, Collins Avenue\, Roxboro Road\, Limerick\, Limerick\, Ireland
CATEGORIES:Local Event with reuse/recycling
ATTACH;FMTTYPE=image/jpeg:https://crni.ie/content/uploads/2024/05/Project-Fashion-Sewing-Classes-at-Tait-House.jpg
GEO:52.6453329;-8.6129813
X-APPLE-STRUCTURED-LOCATION;VALUE=URI;X-ADDRESS=Tait House Collins Avenue Roxboro Road Limerick Limerick Ireland;X-APPLE-RADIUS=500;X-TITLE=Collins Avenue\, Roxboro Road:geo:-8.6129813,52.6453329
END:VEVENT
BEGIN:VEVENT
DTSTART;TZID=Europe/Dublin:20280622T170000
DTEND;TZID=Europe/Dublin:20280622T183000
DTSTAMP:20260421T053244
CREATED:20240501T140202Z
LAST-MODIFIED:20240501T152440Z
UID:10002064-1845306000-1845311400@crni.ie
SUMMARY:Sewing Classes for Kids
DESCRIPTION:Tait House are delighted to host sewing classes for kids\, run by Project Fashion here every Thursday afternoon. For more information or to book a place for your child\, you can phone 01 539 2674 or email info@projectfashion.ie
URL:https://crni.ie/event/sewing-class-2/2028-06-22/
LOCATION:Tait House\, Collins Avenue\, Roxboro Road\, Limerick\, Limerick\, Ireland
CATEGORIES:Local Event with reuse/recycling
ATTACH;FMTTYPE=image/jpeg:https://crni.ie/content/uploads/2024/05/Project-Fashion-Sewing-Classes-at-Tait-House.jpg
GEO:52.6453329;-8.6129813
X-APPLE-STRUCTURED-LOCATION;VALUE=URI;X-ADDRESS=Tait House Collins Avenue Roxboro Road Limerick Limerick Ireland;X-APPLE-RADIUS=500;X-TITLE=Collins Avenue\, Roxboro Road:geo:-8.6129813,52.6453329
END:VEVENT
BEGIN:VEVENT
DTSTART;TZID=Europe/Dublin:20280629T153000
DTEND;TZID=Europe/Dublin:20280629T170000
DTSTAMP:20260421T053244
CREATED:20240501T140001Z
LAST-MODIFIED:20240501T152412Z
UID:10001804-1845905400-1845910800@crni.ie
SUMMARY:Sewing Classes for Kids
DESCRIPTION:Tait House are delighted to host sewing classes for kids\, run by Project Fashion here every Thursday afternoon. For more information or to book a place for your child\, you can phone 01 539 2674 or email info@projectfashion.ie
URL:https://crni.ie/event/sewing-class/2028-06-29/
LOCATION:Tait House\, Collins Avenue\, Roxboro Road\, Limerick\, Limerick\, Ireland
CATEGORIES:Local Event with reuse/recycling
ATTACH;FMTTYPE=image/jpeg:https://crni.ie/content/uploads/2024/05/Project-Fashion-Sewing-Classes-at-Tait-House.jpg
GEO:52.6453329;-8.6129813
X-APPLE-STRUCTURED-LOCATION;VALUE=URI;X-ADDRESS=Tait House Collins Avenue Roxboro Road Limerick Limerick Ireland;X-APPLE-RADIUS=500;X-TITLE=Collins Avenue\, Roxboro Road:geo:-8.6129813,52.6453329
END:VEVENT
BEGIN:VEVENT
DTSTART;TZID=Europe/Dublin:20280629T170000
DTEND;TZID=Europe/Dublin:20280629T183000
DTSTAMP:20260421T053244
CREATED:20240501T140202Z
LAST-MODIFIED:20240501T152440Z
UID:10002065-1845910800-1845916200@crni.ie
SUMMARY:Sewing Classes for Kids
DESCRIPTION:Tait House are delighted to host sewing classes for kids\, run by Project Fashion here every Thursday afternoon. For more information or to book a place for your child\, you can phone 01 539 2674 or email info@projectfashion.ie
URL:https://crni.ie/event/sewing-class-2/2028-06-29/
LOCATION:Tait House\, Collins Avenue\, Roxboro Road\, Limerick\, Limerick\, Ireland
CATEGORIES:Local Event with reuse/recycling
ATTACH;FMTTYPE=image/jpeg:https://crni.ie/content/uploads/2024/05/Project-Fashion-Sewing-Classes-at-Tait-House.jpg
GEO:52.6453329;-8.6129813
X-APPLE-STRUCTURED-LOCATION;VALUE=URI;X-ADDRESS=Tait House Collins Avenue Roxboro Road Limerick Limerick Ireland;X-APPLE-RADIUS=500;X-TITLE=Collins Avenue\, Roxboro Road:geo:-8.6129813,52.6453329
END:VEVENT
END:VCALENDAR