BEGIN:VCALENDAR
VERSION:2.0
PRODID:-//Community Resources Network Ireland - ECPv6.15.20//NONSGML v1.0//EN
CALSCALE:GREGORIAN
METHOD:PUBLISH
X-WR-CALNAME:Community Resources Network Ireland
X-ORIGINAL-URL:https://crni.ie
X-WR-CALDESC:Events for Community Resources Network Ireland
REFRESH-INTERVAL;VALUE=DURATION:PT1H
X-Robots-Tag:noindex
X-PUBLISHED-TTL:PT1H
BEGIN:VTIMEZONE
TZID:Europe/Dublin
BEGIN:STANDARD
TZOFFSETFROM:+0000
TZOFFSETTO:+0100
TZNAME:IST
DTSTART:20230326T010000
END:STANDARD
BEGIN:DAYLIGHT
TZOFFSETFROM:+0100
TZOFFSETTO:+0000
TZNAME:GMT
DTSTART:20231029T010000
END:DAYLIGHT
BEGIN:STANDARD
TZOFFSETFROM:+0000
TZOFFSETTO:+0100
TZNAME:IST
DTSTART:20240331T010000
END:STANDARD
BEGIN:DAYLIGHT
TZOFFSETFROM:+0100
TZOFFSETTO:+0000
TZNAME:GMT
DTSTART:20241027T010000
END:DAYLIGHT
BEGIN:STANDARD
TZOFFSETFROM:+0000
TZOFFSETTO:+0100
TZNAME:IST
DTSTART:20250330T010000
END:STANDARD
BEGIN:DAYLIGHT
TZOFFSETFROM:+0100
TZOFFSETTO:+0000
TZNAME:GMT
DTSTART:20251026T010000
END:DAYLIGHT
END:VTIMEZONE
BEGIN:VEVENT
DTSTART;TZID=Europe/Dublin:20240509T170000
DTEND;TZID=Europe/Dublin:20240509T183000
DTSTAMP:20260422T064018
CREATED:20240501T140202Z
LAST-MODIFIED:20240501T152440Z
UID:10001849-1715274000-1715279400@crni.ie
SUMMARY:Sewing Classes for Kids
DESCRIPTION:Tait House are delighted to host sewing classes for kids\, run by Project Fashion here every Thursday afternoon. For more information or to book a place for your child\, you can phone 01 539 2674 or email info@projectfashion.ie
URL:https://crni.ie/event/sewing-class-2/2024-05-09/
LOCATION:Tait House\, Collins Avenue\, Roxboro Road\, Limerick\, Limerick\, Ireland
CATEGORIES:Local Event with reuse/recycling
ATTACH;FMTTYPE=image/jpeg:https://crni.ie/content/uploads/2024/05/Project-Fashion-Sewing-Classes-at-Tait-House.jpg
GEO:52.6453329;-8.6129813
X-APPLE-STRUCTURED-LOCATION;VALUE=URI;X-ADDRESS=Tait House Collins Avenue Roxboro Road Limerick Limerick Ireland;X-APPLE-RADIUS=500;X-TITLE=Collins Avenue\, Roxboro Road:geo:-8.6129813,52.6453329
END:VEVENT
BEGIN:VEVENT
DTSTART;TZID=Europe/Dublin:20240509T153000
DTEND;TZID=Europe/Dublin:20240509T170000
DTSTAMP:20260422T064018
CREATED:20240501T140001Z
LAST-MODIFIED:20240501T152412Z
UID:10001588-1715268600-1715274000@crni.ie
SUMMARY:Sewing Classes for Kids
DESCRIPTION:Tait House are delighted to host sewing classes for kids\, run by Project Fashion here every Thursday afternoon. For more information or to book a place for your child\, you can phone 01 539 2674 or email info@projectfashion.ie
URL:https://crni.ie/event/sewing-class/2024-05-09/
LOCATION:Tait House\, Collins Avenue\, Roxboro Road\, Limerick\, Limerick\, Ireland
CATEGORIES:Local Event with reuse/recycling
ATTACH;FMTTYPE=image/jpeg:https://crni.ie/content/uploads/2024/05/Project-Fashion-Sewing-Classes-at-Tait-House.jpg
GEO:52.6453329;-8.6129813
X-APPLE-STRUCTURED-LOCATION;VALUE=URI;X-ADDRESS=Tait House Collins Avenue Roxboro Road Limerick Limerick Ireland;X-APPLE-RADIUS=500;X-TITLE=Collins Avenue\, Roxboro Road:geo:-8.6129813,52.6453329
END:VEVENT
BEGIN:VEVENT
DTSTART;TZID=Europe/Dublin:20240502T170000
DTEND;TZID=Europe/Dublin:20240502T183000
DTSTAMP:20260422T064018
CREATED:20240501T140202Z
LAST-MODIFIED:20240501T152440Z
UID:10001848-1714669200-1714674600@crni.ie
SUMMARY:Sewing Classes for Kids
DESCRIPTION:Tait House are delighted to host sewing classes for kids\, run by Project Fashion here every Thursday afternoon. For more information or to book a place for your child\, you can phone 01 539 2674 or email info@projectfashion.ie
URL:https://crni.ie/event/sewing-class-2/2024-05-02/
LOCATION:Tait House\, Collins Avenue\, Roxboro Road\, Limerick\, Limerick\, Ireland
CATEGORIES:Local Event with reuse/recycling
ATTACH;FMTTYPE=image/jpeg:https://crni.ie/content/uploads/2024/05/Project-Fashion-Sewing-Classes-at-Tait-House.jpg
GEO:52.6453329;-8.6129813
X-APPLE-STRUCTURED-LOCATION;VALUE=URI;X-ADDRESS=Tait House Collins Avenue Roxboro Road Limerick Limerick Ireland;X-APPLE-RADIUS=500;X-TITLE=Collins Avenue\, Roxboro Road:geo:-8.6129813,52.6453329
END:VEVENT
BEGIN:VEVENT
DTSTART;TZID=Europe/Dublin:20240502T153000
DTEND;TZID=Europe/Dublin:20240502T170000
DTSTAMP:20260422T064018
CREATED:20240501T140001Z
LAST-MODIFIED:20240501T152412Z
UID:10001587-1714663800-1714669200@crni.ie
SUMMARY:Sewing Classes for Kids
DESCRIPTION:Tait House are delighted to host sewing classes for kids\, run by Project Fashion here every Thursday afternoon. For more information or to book a place for your child\, you can phone 01 539 2674 or email info@projectfashion.ie
URL:https://crni.ie/event/sewing-class/2024-05-02/
LOCATION:Tait House\, Collins Avenue\, Roxboro Road\, Limerick\, Limerick\, Ireland
CATEGORIES:Local Event with reuse/recycling
ATTACH;FMTTYPE=image/jpeg:https://crni.ie/content/uploads/2024/05/Project-Fashion-Sewing-Classes-at-Tait-House.jpg
GEO:52.6453329;-8.6129813
X-APPLE-STRUCTURED-LOCATION;VALUE=URI;X-ADDRESS=Tait House Collins Avenue Roxboro Road Limerick Limerick Ireland;X-APPLE-RADIUS=500;X-TITLE=Collins Avenue\, Roxboro Road:geo:-8.6129813,52.6453329
END:VEVENT
BEGIN:VEVENT
DTSTART;TZID=Europe/Dublin:20240314T090000
DTEND;TZID=Europe/Dublin:20240314T155000
DTSTAMP:20260422T064018
CREATED:20240311T162751Z
LAST-MODIFIED:20240311T162751Z
UID:10000705-1710406800-1710431400@crni.ie
SUMMARY:Irish Waste Management Conference
DESCRIPTION:The Irish Waste Management Association (IWMA) and The Chartered Institution of Waste Management (CIWM) as well as the event management partners Conference Managers Consulting Ltd are absolutely delighted to announce the next Irish Waste Management Conference on Thursday the 14th of March 2024 again in the one and only Aviva Stadium in Dublin 4\, home to Irish Rugby and Football.  The Aviva Stadium Conference Centre is certified to ISO20121 meaning that they operate as a sustainable venue which is essential for a waste management conference. The Aviva Stadium Conference Centre also offers the very best catering\, networking and marketing space in Dublin for live events which is ideal for sponsors\, exhibitors and delegates to mingle.  The main theme of next year’s conference will again be The Circular Economy such are the constant changes and updates to the information and data.  This will be another unique opportunity to meet your clients\, peers\, colleagues\, competitors\, policy makers and indeed\, future clients in a safe and relaxed environment.  There is no other event in The Republic of Ireland that compares to The Irish Waste Management Conference in the waste and resource management space.
URL:https://crni.ie/event/irish-waste-management-conference/
LOCATION:Aviva Stadium Conference Centre\, Dublin 4\, Dublin\, Ireland
CATEGORIES:Local Event with reuse/recycling
ATTACH;FMTTYPE=image/png:https://crni.ie/content/uploads/2024/03/IWMC.png
GEO:53.32937;-6.2275049
END:VEVENT
END:VCALENDAR